BEGIN:VCALENDAR
VERSION:2.0
PRODID:-//Contratero//ES
CALSCALE:GREGORIAN
METHOD:PUBLISH
BEGIN:VEVENT
UID:F-04/23 (F)@contratero.es
DTSTAMP:20260422T133257Z
DTSTART:20230904T235959
DTEND:20230905T005959
SUMMARY:Cierre: Servicio de  acceso a Internet de alta capacidad p
DESCRIPTION:Servicio de  acceso a Internet de alta capacidad para FORTA\\n\\nOrganismo: Secretario General de la Federación de Organismos o Entidades de Radio y Televisión Autonómicos - FORTA\\n\\nVer en Contratero: https://contratero.es/contracts/F-04/23 (F)
URL:https://contratero.es/contracts/F-04/23 (F)
STATUS:CONFIRMED
BEGIN:VALARM
TRIGGER:-P1D
ACTION:DISPLAY
DESCRIPTION:Recordatorio: Servicio de  acceso a Internet
END:VALARM
END:VEVENT
END:VCALENDAR